BEGIN:VCALENDAR
VERSION:2.0
PRODID:-//Moody Center - ECPv6.15.18//NONSGML v1.0//EN
CALSCALE:GREGORIAN
METHOD:PUBLISH
X-WR-CALNAME:Moody Center
X-ORIGINAL-URL:https://moodycenteratx.com
X-WR-CALDESC:Events for Moody Center
REFRESH-INTERVAL;VALUE=DURATION:PT1H
X-Robots-Tag:noindex
X-PUBLISHED-TTL:PT1H
BEGIN:VTIMEZONE
TZID:America/Chicago
BEGIN:DAYLIGHT
TZOFFSETFROM:-0600
TZOFFSETTO:-0500
TZNAME:CDT
DTSTART:20220313T080000
END:DAYLIGHT
BEGIN:STANDARD
TZOFFSETFROM:-0500
TZOFFSETTO:-0600
TZNAME:CST
DTSTART:20221106T070000
END:STANDARD
BEGIN:DAYLIGHT
TZOFFSETFROM:-0600
TZOFFSETTO:-0500
TZNAME:CDT
DTSTART:20230312T080000
END:DAYLIGHT
BEGIN:STANDARD
TZOFFSETFROM:-0500
TZOFFSETTO:-0600
TZNAME:CST
DTSTART:20231105T070000
END:STANDARD
BEGIN:DAYLIGHT
TZOFFSETFROM:-0600
TZOFFSETTO:-0500
TZNAME:CDT
DTSTART:20240310T080000
END:DAYLIGHT
BEGIN:STANDARD
TZOFFSETFROM:-0500
TZOFFSETTO:-0600
TZNAME:CST
DTSTART:20241103T070000
END:STANDARD
END:VTIMEZONE
BEGIN:VEVENT
DTSTART;TZID=America/Chicago:20230815T190000
DTEND;TZID=America/Chicago:20230815T230000
DTSTAMP:20260423T042105
CREATED:20230512T150507Z
LAST-MODIFIED:20230807T204803Z
UID:76674-1692126000-1692140400@moodycenteratx.com
SUMMARY:Stevie Nicks
DESCRIPTION:Stevie Nicks Live In Concert at Moody Center on August 15\, 2023\, with special guest Abby Anderson. \nTickets on sale NOW.  \n  \nPARKING: 5pm CT \nDOORS: 6pm CT \nSHOW: 7pm CT \n  \n\n\n\n\n\n\n\n\n\n\n\n\nInterested in upgrading your event day experience? Explore single event Suite & Loge Box rentals here.\n\nThere are no age restrictions for this event.\n\n\n 
URL:https://moodycenteratx.com/event/stevie-nicks/
CATEGORIES:Music
ATTACH;FMTTYPE=image/jpeg:https://moodycenteratx.com/wp-content/uploads/2023/05/TVC_StevieNicks_8.15.23.jpg
END:VEVENT
END:VCALENDAR